BEGIN:VCALENDAR
VERSION:2.0
PRODID:icalendar-ruby
CALSCALE:GREGORIAN
METHOD:PUBLISH
BEGIN:VEVENT
DTSTAMP:20260423T161536Z
UID:5-1215020@preparingthewaygm.com
DTSTART:20260524T180000Z
DTEND:20260524T190000Z
CLASS:PUBLIC
CREATED:20260423T071308
DESCRIPTION:Sunday Worship
LAST-MODIFIED:20260423T071308
LOCATION:
SUMMARY:Sunday Worship
URL;VALUE=URI:https://www.preparingthewaygm.com/events/sunday-worship/2026-
 05-24
END:VEVENT
END:VCALENDAR
