BEGIN:VCALENDAR
VERSION:2.0
PRODID:icalendar-ruby
CALSCALE:GREGORIAN
METHOD:PUBLISH
BEGIN:VEVENT
DTSTAMP:20260423T192441Z
UID:5-1215667@preparingthewaygm.com
DTSTART:20260607T180000Z
DTEND:20260607T190000Z
CLASS:PUBLIC
CREATED:20260423T100730
DESCRIPTION:Sunday Worship
LAST-MODIFIED:20260423T100730
LOCATION:
SUMMARY:Sunday Worship
URL;VALUE=URI:https://www.preparingthewaygm.com/events/sunday-worship/2026-
 06-07
END:VEVENT
END:VCALENDAR
