BEGIN:VCALENDAR
VERSION:2.0
PRODID:icalendar-ruby
CALSCALE:GREGORIAN
METHOD:PUBLISH
BEGIN:VEVENT
DTSTAMP:20260423T203817Z
UID:5-1216313@preparingthewaygm.com
DTSTART:20260614T180000Z
DTEND:20260614T190000Z
CLASS:PUBLIC
CREATED:20260423T130406
DESCRIPTION:Sunday Worship
LAST-MODIFIED:20260423T130406
LOCATION:
SUMMARY:Sunday Worship
URL;VALUE=URI:https://www.preparingthewaygm.com/events/sunday-worship/2026-
 06-14
END:VEVENT
END:VCALENDAR
