BEGIN:VCALENDAR
VERSION:2.0
PRODID:icalendar-ruby
CALSCALE:GREGORIAN
METHOD:PUBLISH
BEGIN:VEVENT
DTSTAMP:20260423T230738Z
UID:5-1216960@preparingthewaygm.com
DTSTART:20260628T180000Z
DTEND:20260628T190000Z
CLASS:PUBLIC
CREATED:20260423T155806
DESCRIPTION:Sunday Worship
LAST-MODIFIED:20260423T155806
LOCATION:
SUMMARY:Sunday Worship
URL;VALUE=URI:https://www.preparingthewaygm.com/events/sunday-worship/2026-
 06-28
END:VEVENT
END:VCALENDAR
