BEGIN:VCALENDAR
VERSION:2.0
PRODID:icalendar-ruby
CALSCALE:GREGORIAN
METHOD:PUBLISH
BEGIN:VEVENT
DTSTAMP:20260424T002924Z
UID:5-1216961@preparingthewaygm.com
DTSTART:20260705T180000Z
DTEND:20260705T190000Z
CLASS:PUBLIC
CREATED:20260423T155806
DESCRIPTION:Sunday Worship
LAST-MODIFIED:20260423T155806
LOCATION:
SUMMARY:Sunday Worship
URL;VALUE=URI:https://www.preparingthewaygm.com/events/sunday-worship/2026-
 07-05
END:VEVENT
END:VCALENDAR
