BEGIN:VCALENDAR
VERSION:2.0
PRODID:icalendar-ruby
CALSCALE:GREGORIAN
METHOD:PUBLISH
BEGIN:VEVENT
DTSTAMP:20260424T113507Z
UID:5-1218258@preparingthewaygm.com
DTSTART:20260823T180000Z
DTEND:20260823T190000Z
CLASS:PUBLIC
CREATED:20260424T041948
DESCRIPTION:Sunday Worship
LAST-MODIFIED:20260424T041948
LOCATION:
SUMMARY:Sunday Worship
URL;VALUE=URI:https://www.preparingthewaygm.com/events/sunday-worship/2026-
 08-23
END:VEVENT
END:VCALENDAR
