BEGIN:VCALENDAR
VERSION:2.0
PRODID:icalendar-ruby
CALSCALE:GREGORIAN
METHOD:PUBLISH
BEGIN:VEVENT
DTSTAMP:20260424T180812Z
UID:5-1219552@preparingthewaygm.com
DTSTART:20260920T180000Z
DTEND:20260920T190000Z
CLASS:PUBLIC
CREATED:20260424T100232
DESCRIPTION:Sunday Worship
LAST-MODIFIED:20260424T100232
LOCATION:
SUMMARY:Sunday Worship
URL;VALUE=URI:https://www.preparingthewaygm.com/events/sunday-worship/2026-
 09-20
END:VEVENT
END:VCALENDAR
