BEGIN:VCALENDAR
VERSION:2.0
PRODID:icalendar-ruby
CALSCALE:GREGORIAN
METHOD:PUBLISH
BEGIN:VEVENT
DTSTAMP:20260424T211300Z
UID:5-1220199@preparingthewaygm.com
DTSTART:20261004T180000Z
DTEND:20261004T190000Z
CLASS:PUBLIC
CREATED:20260424T124910
DESCRIPTION:Sunday Worship
LAST-MODIFIED:20260424T124910
LOCATION:
SUMMARY:Sunday Worship
URL;VALUE=URI:https://www.preparingthewaygm.com/events/sunday-worship/2026-
 10-04
END:VEVENT
END:VCALENDAR
